{"text_format":"1","workbook":"xlsx","n_sheets":6,"sheets":["PART 1","Gráfica PART 1","PART 2","Gráfica PART 2","PART 3","Gráfica PART 3"],"not_rendered":{"charts":3,"images":2,"macros":1,"external_links":0,"defined_names":0,"comments":0,"pivot_tables":0},"unopened":[],"bounds":{"document_bytes":16777216,"sheet_cells":100000,"rows_first":2000,"rows_last":500,"rows_between":2000,"halvings":0,"cell_chars":16384,"cell_head_chars":4096},"cells_cut":0,"cells_raw":0,"read":"whole","date_system":"1900"}

{"sheet":"PART 1","index":0,"n_rows":21,"n_cols":30,"rows_kept":21,"cut":false,"hidden":false,"merged":[[11,6,11,24],[15,29,16,29],[15,22,16,25],[15,26,16,28],[2,1,2,28],[3,1,3,28],[4,1,4,28],[5,1,5,28],[7,6,7,11],[7,17,7,26],[8,6,8,10],[8,17,8,26],[10,0,10,5],[11,0,11,5],[10,6,10,24],[15,3,15,5],[20,22,20,25],[20,26,20,28],[20,0,20,2],[20,6,20,9],[20,10,20,13],[20,14,20,17],[20,18,20,21],[19,22,19,25],[19,26,19,28],[18,0,18,2],[18,6,18,9],[18,10,18,13],[18,14,18,17],[19,0,19,2],[19,6,19,9],[19,10,19,13],[19,14,19,17],[19,18,19,21],[15,0,16,2],[14,0,14,29],[18,18,18,21],[18,22,18,25],[17,0,17,2],[17,6,17,9],[17,10,17,13],[17,14,17,17],[17,18,17,21],[17,22,17,25],[17,26,17,28],[15,6,16,9],[15,10,16,13],[15,14,16,17],[15,18,16,21],[18,26,18,28]]}
[]
[]
[null,"Secretaría de Educación Pública del Estado de Baja California Sur"]
[null,"Dirección de Educación Secundaria"]
[null,"NIVELES DE COMUNICACIÓN Y PARTICIPACIÓN DE ALUMNOS"]
[null,"PRIMER GRADO "]
[]
[null,null,null,null,null,null,"PERIODO EVALUACIÓN:",null,null,null,null,null,null,null,null,null,null,"PRIMER PERIODO"]
[null,null,null,null,null,null,"CICLO ESCOLAR :",null,null,null,null,null,null,null,null,null,null,"2020 - 2021"]
[]
["DIRECCIÓN: ",null,null,null,null,null,"EDUCACIÓN SECUNDARIA"]
["DIRECTOR:",null,null,null,null,null,"PROFR. RUMUALDO RAMÍREZ GUITIÉRREZ"]
[]
[]
[" COMUNICACIÓN Y PARTICIPACIÓN CON ALUMNOS  (Registrar cantidad de alumnos)"]
["MODALIDAD",null,null,"EXISTENCIA (Alumnos inscritos)",null,null,"COMUNICACIÓN Y PARTICIPACIÓN SOSTENIDA",null,null,null,"%",null,null,null,"COMUNICACIÓN Y PARTICIPACIÓN INTERMITENTE",null,null,null,"%",null,null,null,"COMUNICACIÓN PRÁCTICAMENTE INEXISTENTE",null,null,null,"%",null,null,"TOTAL"]
[null,null,null,"H","M","T"]
["Grales.",null,null,null,null,{"$f":"SUM(D18,E18)","v":0},5473,null,null,null,{"$f":"IFERROR(G18/AD18*100,\"\")","v":63.089337175792501},null,null,null,2069,null,null,null,{"$f":"IFERROR(O18/AD18*100,\"\")","v":23.850144092219018},null,null,null,1133,null,null,null,{"$f":"IFERROR(W18/AD18*100,\"\")","v":13.060518731988472},null,null,{"$f":"SUM(G18,O18,W18)","v":8675}]
["Técs.",null,null,null,null,{"$f":"SUM(D19,E19)","v":0},2936,null,null,null,{"$f":"IFERROR(G19/AD19*100,\"\")","v":56.148403136354943},null,null,null,1111,null,null,null,{"$f":"IFERROR(O19/AD19*100,\"\")","v":21.246892331229681},null,null,null,1182,null,null,null,{"$f":"IFERROR(W19/AD19*100,\"\")","v":22.604704532415376},null,null,5229]
["Telesec.",null,null,null,null,0,1320,null,null,null,79.806529625151143,null,null,null,257,null,null,null,15.538089480048367,null,null,null,77,null,null,null,4.6553808948004836,null,null,1654]
["TOTAL",null,null,{"$f":"SUM(D18:D20)","v":0},{"$f":"SUM(E18:E20)","v":0},{"$f":"SUM(F18:F20)","v":0},{"$f":"SUM(G18:J20)","v":9729},null,null,null,62.533744697261859,null,null,null,{"$f":"SUM(O18:R20)","v":3437},null,null,null,22.091528474096929,null,null,null,{"$f":"SUM(W18:Z20)","v":2392},null,null,null,15.374726828641213,null,null,{"$f":"SUM(G21,O21,W21)","v":15558}]

{"sheet":"Gráfica PART 1","index":1,"n_rows":14,"n_cols":14,"rows_kept":14,"cut":false,"hidden":false,"merged":[[0,0,0,32],[2,1,2,29],[3,1,3,29],[4,1,4,29],[5,1,5,12],[5,13,5,25],[11,0,30,0],[6,1,6,12],[6,13,6,25],[8,0,8,2],[9,0,9,2],[8,5,8,28],[9,4,9,28]]}
[]
[]
[null,"Secretaría de Educación Pública del Estado de Baja California Sur"]
[null,"Dirección de Educación Secundaria"]
[null,"PRIMER GRADO "]
[null,"PERIODO EVALUACIÓN:",null,null,null,null,null,null,null,null,null,null,null,{"$f":"'PART 1'!R8","v":"PRIMER PERIODO"}]
[null,"CICLO ESCOLAR :",null,null,null,null,null,null,null,null,null,null,null,{"$f":"'PART 1'!R9","v":"2020 - 2021"}]
[]
["DIRECCIÓN: ",null,null,null,null,{"$f":"'PART 1'!G11","v":"EDUCACIÓN SECUNDARIA"}]
["DIRECTOR:",null,null,null,{"$f":"'PART 1'!G12","v":"PROFR. RUMUALDO RAMÍREZ GUITIÉRREZ"}]
[]
[]
[null,null,null,"COMUNICACIÓN Y PARTICIPACIÓN SOSTENIDA","COMUNICACIÓN Y PARTICIPACIÓN INTERMITENTE","COMUNICACIÓN PRÁCTICAMENTE INEXISTENTE"]
[null,null,null,{"$f":"'PART 1'!K21/100","v":0.62533744697261862},{"$f":"'PART 1'!S21/100","v":0.2209152847409693},{"$f":"'PART 1'!AA21/100","v":0.15374726828641214}]

{"sheet":"PART 2","index":2,"n_rows":21,"n_cols":30,"rows_kept":21,"cut":false,"hidden":false,"merged":[[15,29,16,29],[2,1,2,28],[3,1,3,28],[4,1,4,28],[5,1,5,28],[7,6,7,11],[7,17,7,26],[8,6,8,10],[8,17,8,26],[10,0,10,5],[10,6,10,24],[11,0,11,5],[14,0,14,29],[15,0,16,2],[15,3,15,5],[15,10,16,13],[15,14,16,17],[15,18,16,21],[15,22,16,25],[11,6,11,24],[15,26,16,28],[17,22,17,25],[17,26,17,28],[18,0,18,2],[18,6,18,9],[18,10,18,13],[18,14,18,17],[18,18,18,21],[18,22,18,25],[18,26,18,28],[17,0,17,2],[17,6,17,9],[17,10,17,13],[17,14,17,17],[17,18,17,21],[15,6,16,9],[19,26,19,28],[19,0,19,2],[19,6,19,9],[19,10,19,13],[19,14,19,17],[19,18,19,21],[19,22,19,25],[20,22,20,25],[20,26,20,28],[20,0,20,2],[20,6,20,9],[20,10,20,13],[20,14,20,17],[20,18,20,21]]}
[]
[]
[null,"Secretaría de Educación Pública del Estado de Baja California Sur"]
[null,"Dirección de Educación Secundaria"]
[null,"NIVELES DE COMUNICACIÓN Y PARTICIPACIÓN DE ALUMNOS"]
[null,"SEGUNDO GRADO "]
[]
[null,null,null,null,null,null,"PERIODO EVALUACIÓN:",null,null,null,null,null,null,null,null,null,null,{"$f":"'PART 1'!R8","v":"PRIMER PERIODO"}]
[null,null,null,null,null,null,"CICLO ESCOLAR :",null,null,null,null,null,null,null,null,null,null,{"$f":"'PART 1'!R9","v":"2020 - 2021"}]
[]
["DIRECCIÓN: ",null,null,null,null,null,{"$f":"'PART 1'!G11","v":"EDUCACIÓN SECUNDARIA"}]
["DIRECTOR:",null,null,null,null,null,{"$f":"'Gráfica PART 1'!E10","v":"PROFR. RUMUALDO RAMÍREZ GUITIÉRREZ"}]
[]
[]
[" COMUNICACIÓN Y PARTICIPACIÓN CON ALUMNOS  (Registrar cantidad de alumnos)"]
["GRUPO",null,null,"EXISTENCIA (Alumnos inscritos)",null,null,"COMUNICACIÓN Y PARTICIPACIÓN SOSTENIDA",null,null,null,"%",null,null,null,"COMUNICACIÓN Y PARTICIPACIÓN INTERMITENTE",null,null,null,"%",null,null,null,"COMUNICACIÓN PRÁCTICAMENTE INEXISTENTE",null,null,null,"%",null,null,"TOTAL"]
[null,null,null,"H","M","T"]
["Grales.",null,null,null,null,{"$f":"SUM(D18,E18)","v":0},5040,null,null,null,{"$f":"IFERROR(G18/AD18*100,\"\")","v":61.254253767622743},null,null,null,2021,null,null,null,{"$f":"IFERROR(O18/AD18*100,\"\")","v":24.562469615945552},null,null,null,1167,null,null,null,{"$f":"IFERROR(W18/AD18*100,\"\")","v":14.183276616431698},null,null,{"$f":"SUM(G18,O18,W18)","v":8228}]
["Técs.",null,null,null,null,{"$f":"SUM(D19,E19)","v":0},2680,null,null,null,{"$f":"IFERROR(G19/AD19*100,\"\")","v":52.818289318092241},null,null,null,1142,null,null,null,{"$f":"IFERROR(O19/AD19*100,\"\")","v":22.506897910918408},null,null,null,1252,null,null,null,{"$f":"IFERROR(W19/AD19*100,\"\")","v":24.674812770989359},null,null,5074]
["Telesec.",null,null,null,null,0,1368,null,null,null,78.575531303848365,null,null,null,297,null,null,null,17.059161401493395,null,null,null,76,null,null,null,4.3653072946582423,null,null,1741]
["TOTAL",null,null,{"$f":"SUM(D18:D20)","v":0},{"$f":"SUM(E18:E20)","v":0},{"$f":"SUM(F18:F20)","v":0},{"$f":"SUM(G18:J20)","v":9088},null,null,null,60.413481353453435,null,null,null,{"$f":"SUM(O18:R20)","v":3460},null,null,null,23.000731237120256,null,null,null,{"$f":"SUM(W18:Z20)","v":2495},null,null,null,16.58578740942631,null,null,{"$f":"SUM(G21,O21,W21)","v":15043}]

{"sheet":"Gráfica PART 2","index":3,"n_rows":14,"n_cols":14,"rows_kept":14,"cut":false,"hidden":false,"merged":[[0,0,0,32],[2,1,2,29],[3,1,3,29],[4,1,4,29],[5,1,5,12],[5,13,5,25],[11,0,30,0],[6,1,6,12],[6,13,6,25],[8,0,8,2],[8,5,8,28],[9,0,9,2],[9,4,9,28]]}
[]
[]
[null,"Secretaría de Educación Pública del Estado de Baja California Sur"]
[null,"Dirección de Educación Secundaria"]
[null,"SEGUNDO GRADO "]
[null,"PERIODO EVALUACIÓN:",null,null,null,null,null,null,null,null,null,null,null,{"$f":"'PART 1'!R8","v":"PRIMER PERIODO"}]
[null,"CICLO ESCOLAR :",null,null,null,null,null,null,null,null,null,null,null,{"$f":"'PART 1'!R9","v":"2020 - 2021"}]
[]
["DIRECCIÓN: ",null,null,null,null,{"$f":"'PART 1'!G11","v":"EDUCACIÓN SECUNDARIA"}]
["DIRECTOR:",null,null,null,{"$f":"'PART 2'!G12","v":"PROFR. RUMUALDO RAMÍREZ GUITIÉRREZ"}]
[]
[]
[null,null,null,"COMUNICACIÓN Y PARTICIPACIÓN SOSTENIDA","COMUNICACIÓN Y PARTICIPACIÓN INTERMITENTE","COMUNICACIÓN PRÁCTICAMENTE INEXISTENTE"]
[null,null,null,{"$f":"'PART 2'!K21/100","v":0.60413481353453435},{"$f":"'PART 2'!S21/100","v":0.23000731237120256},{"$f":"'PART 2'!AA21/100","v":0.16585787409426309}]

{"sheet":"PART 3","index":4,"n_rows":21,"n_cols":30,"rows_kept":21,"cut":false,"hidden":false,"merged":[[15,29,16,29],[2,1,2,28],[3,1,3,28],[4,1,4,28],[5,1,5,28],[7,6,7,11],[7,17,7,26],[8,6,8,10],[8,17,8,26],[10,0,10,5],[10,6,10,24],[11,0,11,5],[14,0,14,29],[15,0,16,2],[15,3,15,5],[15,10,16,13],[15,14,16,17],[15,18,16,21],[15,22,16,25],[11,6,11,24],[15,26,16,28],[17,22,17,25],[17,26,17,28],[18,0,18,2],[18,6,18,9],[18,10,18,13],[18,14,18,17],[18,18,18,21],[18,22,18,25],[18,26,18,28],[17,0,17,2],[17,6,17,9],[17,10,17,13],[17,14,17,17],[17,18,17,21],[15,6,16,9],[19,26,19,28],[19,0,19,2],[19,6,19,9],[19,10,19,13],[19,14,19,17],[19,18,19,21],[19,22,19,25],[20,22,20,25],[20,26,20,28],[20,0,20,2],[20,6,20,9],[20,10,20,13],[20,14,20,17],[20,18,20,21]]}
[]
[]
[null,"Secretaría de Educación Pública del Estado de Baja California Sur"]
[null,"Dirección de Educación Secundaria"]
[null,"NIVELES DE COMUNICACIÓN Y PARTICIPACIÓN DE ALUMNOS"]
[null,"TERCER GRADO "]
[]
[null,null,null,null,null,null,"PERIODO EVALUACIÓN:",null,null,null,null,null,null,null,null,null,null,{"$f":"'PART 1'!R8","v":"PRIMER PERIODO"}]
[null,null,null,null,null,null,"CICLO ESCOLAR :",null,null,null,null,null,null,null,null,null,null,{"$f":"'PART 1'!R9","v":"2020 - 2021"}]
[]
["DIRECCIÓN: ",null,null,null,null,null,{"$f":"'PART 1'!G11","v":"EDUCACIÓN SECUNDARIA"}]
["DIRECTOR:",null,null,null,null,null,{"$f":"'Gráfica PART 2'!E10","v":"PROFR. RUMUALDO RAMÍREZ GUITIÉRREZ"}]
[]
[]
[" COMUNICACIÓN Y PARTICIPACIÓN CON ALUMNOS  (Registrar cantidad de alumnos)"]
["MODALIDAD",null,null,"EXISTENCIA (Alumnos inscritos)",null,null,"COMUNICACIÓN Y PARTICIPACIÓN SOSTENIDA",null,null,null,"%",null,null,null,"COMUNICACIÓN Y PARTICIPACIÓN INTERMITENTE",null,null,null,"%",null,null,null,"COMUNICACIÓN PRÁCTICAMENTE INEXISTENTE",null,null,null,"%",null,null,"TOTAL"]
[null,null,null,"H","M","T"]
["Grales.",null,null,null,null,{"$f":"SUM(D18,E18)","v":0},4839,null,null,null,{"$f":"IFERROR(G18/AD18*100,\"\")","v":60.593538692712244},null,null,null,1975,null,null,null,{"$f":"IFERROR(O18/AD18*100,\"\")","v":24.730778863010269},null,null,null,1172,null,null,null,{"$f":"IFERROR(W18/AD18*100,\"\")","v":14.675682444277486},null,null,{"$f":"SUM(G18,O18,W18)","v":7986}]
["Técs.",null,null,null,null,{"$f":"SUM(D19,E19)","v":0},2566,null,null,null,{"$f":"IFERROR(G19/AD19*100,\"\")","v":52.420837589376909},null,null,null,1212,null,null,null,{"$f":"IFERROR(O19/AD19*100,\"\")","v":24.759959141981614},null,null,null,1117,null,null,null,{"$f":"IFERROR(W19/AD19*100,\"\")","v":22.819203268641473},null,null,4895]
["Telesec.",null,null,null,null,0,1157,null,null,null,79.300891021247438,null,null,null,256,null,null,null,17.546264564770393,null,null,null,46,null,null,null,3.1528444139821796,null,null,1459]
["TOTAL",null,null,{"$f":"SUM(D18:D20)","v":0},{"$f":"SUM(E18:E20)","v":0},{"$f":"SUM(F18:F20)","v":0},{"$f":"SUM(G18:J20)","v":8562},null,null,null,59.707112970711293,null,null,null,{"$f":"SUM(O18:R20)","v":3443},null,null,null,24.009762900976288,null,null,null,{"$f":"SUM(W18:Z20)","v":2335},null,null,null,16.283124128312412,null,null,{"$f":"SUM(G21,O21,W21)","v":14340}]

{"sheet":"Gráfica PART 3","index":5,"n_rows":14,"n_cols":14,"rows_kept":14,"cut":false,"hidden":false,"merged":[[0,0,0,32],[2,1,2,29],[3,1,3,29],[4,1,4,29],[5,1,5,12],[5,13,5,25],[11,0,30,0],[6,1,6,12],[6,13,6,25],[8,0,8,2],[8,5,8,28],[9,0,9,2],[9,4,9,28]]}
[]
[]
[null,"Secretaría de Educación Pública del Estado de Baja California Sur"]
[null,"Dirección de Educación Secundaria"]
[null,"TERCER GRADO "]
[null,"PERIODO EVALUACIÓN:",null,null,null,null,null,null,null,null,null,null,null,{"$f":"'PART 1'!R8","v":"PRIMER PERIODO"}]
[null,"CICLO ESCOLAR :",null,null,null,null,null,null,null,null,null,null,null,{"$f":"'PART 1'!R9","v":"2020 - 2021"}]
[]
["DIRECCIÓN: ",null,null,null,null,{"$f":"'PART 1'!G11","v":"EDUCACIÓN SECUNDARIA"}]
["DIRECTOR:",null,null,null,{"$f":"'PART 3'!G12","v":"PROFR. RUMUALDO RAMÍREZ GUITIÉRREZ"}]
[]
[]
[null,null,null,"COMUNICACIÓN Y PARTICIPACIÓN SOSTENIDA","COMUNICACIÓN Y PARTICIPACIÓN INTERMITENTE","COMUNICACIÓN PRÁCTICAMENTE INEXISTENTE"]
[null,null,null,{"$f":"'PART 3'!K21/100","v":0.59707112970711296},{"$f":"'PART 3'!S21/100","v":0.24009762900976286},{"$f":"'PART 3'!AA21/100","v":0.16283124128312412}]